BEGIN:VCALENDAR
VERSION:2.0
PRODID:-//wp-events-plugin.com//7.2.3.1//EN
TZID:Europe/Berlin
X-WR-TIMEZONE:Europe/Berlin
BEGIN:VEVENT
UID:0-945@pv-prutting-vogtareuth.de
DTSTART;TZID=Europe/Berlin:20140814T143000
DTEND;TZID=Europe/Berlin:20140814T143000
DTSTAMP:20140722T205654Z
URL:https://pv-prutting-vogtareuth.de/events/zaisering-seniorennachmittag-
 beim-boadwirt/
SUMMARY:Zaisering: Seniorennachmittag beim Boadwirt
DESCRIPTION:
CATEGORIES:kfd Zaisering-Leonhardspfunzen,Leonhardspfunzen,Zaisering
END:VEVENT
BEGIN:VTIMEZONE
TZID:Europe/Berlin
X-LIC-LOCATION:Europe/Berlin
BEGIN:DAYLIGHT
DTSTART:20140330T030000
TZOFFSETFROM:+0100
TZOFFSETTO:+0200
TZNAME:CEST
END:DAYLIGHT
END:VTIMEZONE
END:VCALENDAR