BEGIN:VCALENDAR
VERSION:2.0
PRODID:-//wp-events-plugin.com//7.2.3.1//EN
TZID:Europe/Berlin
X-WR-TIMEZONE:Europe/Berlin
BEGIN:VEVENT
UID:0-3682@pv-prutting-vogtareuth.de
DTSTART;TZID=Europe/Berlin;VALUE=DATE:20170311
DTEND;TZID=Europe/Berlin;VALUE=DATE:20170313
DTSTAMP:20170217T053639Z
URL:https://pv-prutting-vogtareuth.de/events/zaehlung-der-gottesdienstbesu
 cher-3/
SUMMARY:Zählung der Gottesdienstbesucher
DESCRIPTION:
CATEGORIES:Pfarrverband,Veranstaltung
END:VEVENT
BEGIN:VTIMEZONE
TZID:Europe/Berlin
X-LIC-LOCATION:Europe/Berlin
BEGIN:STANDARD
DTSTART:20161030T020000
TZOFFSETFROM:+0200
TZOFFSETTO:+0100
TZNAME:CET
END:STANDARD
END:VTIMEZONE
END:VCALENDAR