BEGIN:VCALENDAR
VERSION:2.0
PRODID:-//wp-events-plugin.com//7.2.3.1//EN
TZID:Europe/Berlin
X-WR-TIMEZONE:Europe/Berlin
BEGIN:VEVENT
UID:0-6230@pv-prutting-vogtareuth.de
DTSTART;TZID=Europe/Berlin:20200306T190000
DTEND;TZID=Europe/Berlin:20200306T190000
DTSTAMP:20200302T140636Z
URL:https://pv-prutting-vogtareuth.de/events/weltgebetstag-der-frauen-steh
 -auf-und-geh/
SUMMARY:Weltgebetstag der Frauen: „Steh auf und geh!“
DESCRIPTION:Frauen aus der ganzen Welt im Gebet verbunden mit Frauen und M
 ädchen aus Simbabwe. Anschließend gemütliches Beisammensein und Büfett
 \, u.a. mit afrikanischen Spezialitäten.\n\nMehr dazu steht in der Einlad
 ung.\n\n
CATEGORIES:.Gottesdienst,Frauen Schwabering,GkF Vogtareuth,Gottesdienst
 Pfarrverband,Gottesdienst Vogtareuth,kfd Prutting,kfd
 Zaisering-Leonhardspfunzen,Pfarrverband,Vogtareuth
LOCATION:Pfarrheim St. Emmeram\, Rosenheimer Str. 3\, Vogtareuth\, 83569\, 
 Deutschland
X-APPLE-STRUCTURED-LOCATION;VALUE=URI;X-ADDRESS=Rosenheimer Str. 3\, Vogtar
 euth\, 83569\, Deutschland;X-APPLE-RADIUS=100;X-TITLE=Pfarrheim St. Emmera
 m:geo:0,0
END:VEVENT
BEGIN:VTIMEZONE
TZID:Europe/Berlin
X-LIC-LOCATION:Europe/Berlin
BEGIN:STANDARD
DTSTART:20191027T020000
TZOFFSETFROM:+0200
TZOFFSETTO:+0100
TZNAME:CET
END:STANDARD
END:VTIMEZONE
END:VCALENDAR