BEGIN:VCALENDAR
VERSION:2.0
PRODID:-//wp-events-plugin.com//7.2.3.1//EN
TZID:Europe/Berlin
X-WR-TIMEZONE:Europe/Berlin
BEGIN:VEVENT
UID:0-10378@pv-prutting-vogtareuth.de
DTSTART;TZID=Europe/Berlin:20250307T190000
DTEND;TZID=Europe/Berlin:20250307T190000
DTSTAMP:20250223T074704Z
URL:https://pv-prutting-vogtareuth.de/events/weltgebetstag-der-frauen-13/
SUMMARY:Weltgebetstag der Frauen
DESCRIPTION:Themenland: Cook-Inseln. Der Weltgebetstag findet heuer im Pfar
 rheim Vogtareuth statt. Die musikalische Gestaltung dazu übernimmt die Gr
 uppe Dreimaldrei. Anschließend lädt die Frauengemeinschaft alle zu einem
  gemütlichen Austausch mit kleinen Snacks und Getränken ein. Die Fraueng
 emeinschaften des Pfarrverbandes freuen sich auf eure Teilnahme!\n\n
CATEGORIES:.Gottesdienst,Frauen Schwabering,GkF Vogtareuth,Gottesdienst
 Pfarrverband,Gottesdienst Vogtareuth,kfd Prutting,kfd
 Zaisering-Leonhardspfunzen,Pfarrverband,Vogtareuth
LOCATION:Pfarrheim St. Emmeram\, Rosenheimer Str. 3\, Vogtareuth\, 83569\, 
 Deutschland
X-APPLE-STRUCTURED-LOCATION;VALUE=URI;X-ADDRESS=Rosenheimer Str. 3\, Vogtar
 euth\, 83569\, Deutschland;X-APPLE-RADIUS=100;X-TITLE=Pfarrheim St. Emmera
 m:geo:0,0
END:VEVENT
BEGIN:VTIMEZONE
TZID:Europe/Berlin
X-LIC-LOCATION:Europe/Berlin
BEGIN:STANDARD
DTSTART:20241027T020000
TZOFFSETFROM:+0200
TZOFFSETTO:+0100
TZNAME:CET
END:STANDARD
END:VTIMEZONE
END:VCALENDAR