BEGIN:VCALENDAR
VERSION:2.0
PRODID:-//wp-events-plugin.com//7.2.3.1//EN
TZID:Europe/Berlin
X-WR-TIMEZONE:Europe/Berlin
BEGIN:VEVENT
UID:0-9622@pv-prutting-vogtareuth.de
DTSTART;TZID=Europe/Berlin:20240301T190000
DTEND;TZID=Europe/Berlin:20240301T190000
DTSTAMP:20240222T061555Z
URL:https://pv-prutting-vogtareuth.de/events/weltgebetstag-der-frauen-11/
SUMMARY:Weltgebetstag der Frauen
DESCRIPTION:Unter dem Motto „… durch das Band des Friedens“ haben Fr
 auen aus Palästina den diesjährigen Weltgebetstag vorbereitet. In unzäh
 ligen ökumenischen Gottesdiensten wird über die Situation der Mädchen u
 nd Frauen in Palästina informiert. Der Gottesdienst findet in diesem Jahr
  in Schwabering statt. Von der Frauengemeinschaft Vogtareuth werden Fahrge
 meinschaften angeboten: Anmeldung und Rückfragen bei Anita Rinser.\n\n\n\
 nFür den geselligen Teil danach im Pfarrsaal bittet die katholische Fraue
 ngemeinschaft Schwabering noch um Spenden für das kalte Buffet. Herzliche
 n Dank für eure Mithilfe!\n\n
CATEGORIES:.Gottesdienst,Frauen Schwabering,GkF Vogtareuth,Gottesdienst
 Pfarrverband,Gottesdienst Schwabering,kfd Prutting,kfd
 Zaisering-Leonhardspfunzen,Pfarrverband,Schwabering
LOCATION:St. Peter\, Dorfstraße 3\, Schwabering\, 83139\, Deutschland
GEO:47.903596;12.235272
X-APPLE-STRUCTURED-LOCATION;VALUE=URI;X-ADDRESS=Dorfstraße 3\, Schwabering
 \, 83139\, Deutschland;X-APPLE-RADIUS=100;X-TITLE=St. Peter:geo:47.903596,
 12.235272
END:VEVENT
BEGIN:VTIMEZONE
TZID:Europe/Berlin
X-LIC-LOCATION:Europe/Berlin
BEGIN:STANDARD
DTSTART:20231029T020000
TZOFFSETFROM:+0200
TZOFFSETTO:+0100
TZNAME:CET
END:STANDARD
END:VTIMEZONE
END:VCALENDAR