BEGIN:VCALENDAR
VERSION:2.0
PRODID:-//wp-events-plugin.com//7.2.3.1//EN
TZID:Europe/Berlin
X-WR-TIMEZONE:Europe/Berlin
BEGIN:VEVENT
UID:0-1659@pv-prutting-vogtareuth.de
DTSTART;TZID=Europe/Berlin:20150225T193000
DTEND;TZID=Europe/Berlin:20150225T193000
DTSTAMP:20150221T074900Z
URL:https://pv-prutting-vogtareuth.de/events/vortrag-der-kfd-prutting-ich-
 habe-einen-traum/
SUMMARY:Vortrag der kfd Prutting: „Ich habe einen Traum“
DESCRIPTION:
CATEGORIES:kfd Prutting,Prutting,Veranstaltung
LOCATION:Pfarrheim Mariä Himmelfahrt\, Alte Landstraße 12\, Prutting\, 83
 134\, Deutschland
GEO:47.89529713871399;12.200727840475452
X-APPLE-STRUCTURED-LOCATION;VALUE=URI;X-ADDRESS=Alte Landstraße 12\, Prutt
 ing\, 83134\, Deutschland;X-APPLE-RADIUS=100;X-TITLE=Pfarrheim Mariä Himm
 elfahrt:geo:47.89529713871399,12.200727840475452
END:VEVENT
BEGIN:VTIMEZONE
TZID:Europe/Berlin
X-LIC-LOCATION:Europe/Berlin
BEGIN:STANDARD
DTSTART:20141026T020000
TZOFFSETFROM:+0200
TZOFFSETTO:+0100
TZNAME:CET
END:STANDARD
END:VTIMEZONE
END:VCALENDAR