BEGIN:VCALENDAR
VERSION:2.0
PRODID:-//wp-events-plugin.com//7.2.3.1//EN
TZID:Europe/Berlin
X-WR-TIMEZONE:Europe/Berlin
BEGIN:VEVENT
UID:0-9982@pv-prutting-vogtareuth.de
DTSTART;TZID=Europe/Berlin:20240718T140000
DTEND;TZID=Europe/Berlin:20240718T140000
DTSTAMP:20240626T154227Z
URL:https://pv-prutting-vogtareuth.de/events/trauerfeier-fuer-josef-pennin
 ger/
SUMMARY:Trauerfeier für Josef Penninger
DESCRIPTION:Anschließend Beisetzung. Wir bitten die Pfarrangehörigen um G
 ebet und Weggeleit.\n\n
CATEGORIES:.Gottesdienst,Gottesdienst Prutting,Prutting
LOCATION:Gedenkwaldgarten Au\, Gottschallinger Straße 26\, Bad Feilnbach\,
  83075\, Deutschland
X-APPLE-STRUCTURED-LOCATION;VALUE=URI;X-ADDRESS=Gottschallinger Straße 26\
 , Bad Feilnbach\, 83075\, Deutschland;X-APPLE-RADIUS=100;X-TITLE=Gedenkwal
 dgarten Au:geo:0,0
END:VEVENT
BEGIN:VTIMEZONE
TZID:Europe/Berlin
X-LIC-LOCATION:Europe/Berlin
BEGIN:DAYLIGHT
DTSTART:20240331T030000
TZOFFSETFROM:+0100
TZOFFSETTO:+0200
TZNAME:CEST
END:DAYLIGHT
END:VTIMEZONE
END:VCALENDAR