BEGIN:VCALENDAR
VERSION:2.0
PRODID:-//wp-events-plugin.com//7.2.3.1//EN
TZID:Europe/Berlin
X-WR-TIMEZONE:Europe/Berlin
BEGIN:VEVENT
UID:0-1988@pv-prutting-vogtareuth.de
DTSTART;TZID=Europe/Berlin:20150619T191500
DTEND;TZID=Europe/Berlin:20150619T191500
DTSTAMP:20150619T120357Z
URL:https://pv-prutting-vogtareuth.de/events/theaterbesuch-hl-teresa-von-a
 vila/
SUMMARY:Theaterbesuch „Hl. Teresa von Avila“
DESCRIPTION:in Bad Endorf. Abfahrt der Fahrgemeinschaften: 19:15 Uhr am Fe
 uerwehrhaus. Kartenreservierung bei Agnes Gögerl (Vogtareuth-1217).
CATEGORIES:Ausflug,GkF Vogtareuth,Veranstaltung,Vogtareuth
LOCATION:Feuerwehrhaus Vogtareuth\, Vogteistraße 5\, Vogtareuth\, 83569\, 
 Deutschland
GEO:47.94684121943967;12.182292576721238
X-APPLE-STRUCTURED-LOCATION;VALUE=URI;X-ADDRESS=Vogteistraße 5\, Vogtareut
 h\, 83569\, Deutschland;X-APPLE-RADIUS=100;X-TITLE=Feuerwehrhaus Vogtareut
 h:geo:47.94684121943967,12.182292576721238
END:VEVENT
BEGIN:VTIMEZONE
TZID:Europe/Berlin
X-LIC-LOCATION:Europe/Berlin
BEGIN:DAYLIGHT
DTSTART:20150329T030000
TZOFFSETFROM:+0100
TZOFFSETTO:+0200
TZNAME:CEST
END:DAYLIGHT
END:VTIMEZONE
END:VCALENDAR