BEGIN:VCALENDAR
VERSION:2.0
PRODID:-//wp-events-plugin.com//7.2.3.1//EN
TZID:Europe/Berlin
X-WR-TIMEZONE:Europe/Berlin
BEGIN:VEVENT
UID:0-6850@pv-prutting-vogtareuth.de
DTSTART;TZID=Europe/Berlin:20200927T100000
DTEND;TZID=Europe/Berlin:20200927T100000
DTSTAMP:20200904T134635Z
URL:https://pv-prutting-vogtareuth.de/events/taufe-von-paul-franz-gehrmann
 -und-xaver-michael-wuehr/
SUMMARY:Taufe von Paul Franz Gehrmann und Xaver Michael Wühr
DESCRIPTION:26. Sonntag im Jahreskreis
CATEGORIES:.Gottesdienst,Gottesdienst Zaisering,Zaisering
LOCATION:St. Vitus\, Hauptstraße 9\, Zaisering\, 83569\, Deutschland
GEO:47.904156;12.147574
X-APPLE-STRUCTURED-LOCATION;VALUE=URI;X-ADDRESS=Hauptstraße 9\, Zaisering\
 , 83569\, Deutschland;X-APPLE-RADIUS=100;X-TITLE=St. Vitus:geo:47.904156,1
 2.147574
END:VEVENT
BEGIN:VTIMEZONE
TZID:Europe/Berlin
X-LIC-LOCATION:Europe/Berlin
BEGIN:DAYLIGHT
DTSTART:20200329T030000
TZOFFSETFROM:+0100
TZOFFSETTO:+0200
TZNAME:CEST
END:DAYLIGHT
END:VTIMEZONE
END:VCALENDAR