BEGIN:VCALENDAR
VERSION:2.0
PRODID:-//wp-events-plugin.com//7.2.3.1//EN
TZID:Europe/Berlin
X-WR-TIMEZONE:Europe/Berlin
BEGIN:VEVENT
UID:0-9091@pv-prutting-vogtareuth.de
DTSTART;TZID=Europe/Berlin:20230709T181500
DTEND;TZID=Europe/Berlin:20230709T181500
DTSTAMP:20230704T154828Z
URL:https://pv-prutting-vogtareuth.de/events/sternbittgang-nach-seehub-35/
SUMMARY:Sternbittgang nach Seehub
DESCRIPTION:\n\nAb Straßkirchen. Nach Ankunft in Seehub Bitt- und Dankgott
 esdienst als Pfarrverbandsgottesdienst in den Anliegen des Pfarrverbandes 
 und für alle Lebenden und Verstorbenen des Pfarrverbandes.\n\n14. Sonntag
  im Jahreskreis
CATEGORIES:.Gottesdienst,Gottesdienst Straßkirchen,Gottesdienst
 Vogtareuth,Straßkirchen,Vogtareuth
LOCATION:St. Georg\, Straßkirchen 4\, Vogtareuth\, 83569\, Deutschland
GEO:47.930051;12.191264
X-APPLE-STRUCTURED-LOCATION;VALUE=URI;X-ADDRESS=Straßkirchen 4\, Vogtareut
 h\, 83569\, Deutschland;X-APPLE-RADIUS=100;X-TITLE=St. Georg:geo:47.93005
 1,12.191264
END:VEVENT
BEGIN:VTIMEZONE
TZID:Europe/Berlin
X-LIC-LOCATION:Europe/Berlin
BEGIN:DAYLIGHT
DTSTART:20230326T030000
TZOFFSETFROM:+0100
TZOFFSETTO:+0200
TZNAME:CEST
END:DAYLIGHT
END:VTIMEZONE
END:VCALENDAR