BEGIN:VCALENDAR
VERSION:2.0
PRODID:-//wp-events-plugin.com//7.2.3.1//EN
TZID:Europe/Berlin
X-WR-TIMEZONE:Europe/Berlin
BEGIN:VEVENT
UID:0-3433@pv-prutting-vogtareuth.de
DTSTART;TZID=Europe/Berlin:20161124T183000
DTEND;TZID=Europe/Berlin:20161124T183000
DTSTAMP:20161122T110227Z
URL:https://pv-prutting-vogtareuth.de/events/sterbeandacht-fuer-georg-bock
 /
SUMMARY:Sterbeandacht für Georg Bock
DESCRIPTION:\n\nAnschließend Abendmesse. – Der Trauergottesdienst ist am
  Freitag\, 25. November 2016\, um 14 Uhr\, ebenfalls in der Pfarrkirche 
 St. Emmeram\, Vogtareuth\, anschließend Beerdigung im Gemeindefriedhof.\
 n\nGedenken wir unserer Toten im Gebet und in der Feier des Gottesdienstes
 .
CATEGORIES:.Gottesdienst,Gottesdienst Vogtareuth,Vogtareuth
LOCATION:St. Emmeram\, Kirchplatz 1\, Vogtareuth\, 83569\, Deutschland
GEO:47.947833;12.181734
X-APPLE-STRUCTURED-LOCATION;VALUE=URI;X-ADDRESS=Kirchplatz 1\, Vogtareuth\,
  83569\, Deutschland;X-APPLE-RADIUS=100;X-TITLE=St. Emmeram:geo:47.947833,
 12.181734
END:VEVENT
BEGIN:VTIMEZONE
TZID:Europe/Berlin
X-LIC-LOCATION:Europe/Berlin
BEGIN:STANDARD
DTSTART:20161030T020000
TZOFFSETFROM:+0200
TZOFFSETTO:+0100
TZNAME:CET
END:STANDARD
END:VTIMEZONE
END:VCALENDAR