BEGIN:VCALENDAR
VERSION:2.0
PRODID:-//wp-events-plugin.com//7.2.3.1//EN
TZID:Europe/Berlin
X-WR-TIMEZONE:Europe/Berlin
BEGIN:VEVENT
UID:0-990@pv-prutting-vogtareuth.de
DTSTART;TZID=Europe/Berlin;VALUE=DATE:20140920
DTEND;TZID=Europe/Berlin;VALUE=DATE:20140921
DTSTAMP:20140811T135446Z
URL:https://pv-prutting-vogtareuth.de/events/redaktionsschluss-des-pfarrve
 rbandsbriefs/
SUMMARY:Redaktions&shy\;schluss des Pfarr&shy\;verbands&shy\;briefs
DESCRIPTION:
CATEGORIES:Pfarrverband
END:VEVENT
BEGIN:VTIMEZONE
TZID:Europe/Berlin
X-LIC-LOCATION:Europe/Berlin
BEGIN:DAYLIGHT
DTSTART:20140330T030000
TZOFFSETFROM:+0100
TZOFFSETTO:+0200
TZNAME:CEST
END:DAYLIGHT
END:VTIMEZONE
END:VCALENDAR