BEGIN:VCALENDAR
VERSION:2.0
PRODID:-//wp-events-plugin.com//7.2.3.1//EN
TZID:Europe/Berlin
X-WR-TIMEZONE:Europe/Berlin
BEGIN:VEVENT
UID:0-11589@pv-prutting-vogtareuth.de
DTSTART;TZID=Europe/Berlin:20260525T054500
DTEND;TZID=Europe/Berlin:20260525T054500
DTSTAMP:20260424T051642Z
URL:https://pv-prutting-vogtareuth.de/events/radlwallfahrt-nach-altoetting
 -5/
SUMMARY:Radlwallfahrt nach Altötting
DESCRIPTION:Anmeldung bei Sigrid Dorn. Bitte die Rückfahrt selbst organisi
 eren!
CATEGORIES:.Gottesdienst,GkF Vogtareuth,Gottesdienst Vogtareuth,Vogtareuth
LOCATION:Bader\, Unterwindering\, Unterwindering 3\, Vogtareuth\, 83569\, D
 eutschland
X-APPLE-STRUCTURED-LOCATION;VALUE=URI;X-ADDRESS=Unterwindering 3\, Vogtareu
 th\, 83569\, Deutschland;X-APPLE-RADIUS=100;X-TITLE=Bader\, Unterwindering
 :geo:0,0
END:VEVENT
BEGIN:VTIMEZONE
TZID:Europe/Berlin
X-LIC-LOCATION:Europe/Berlin
BEGIN:DAYLIGHT
DTSTART:20260329T030000
TZOFFSETFROM:+0100
TZOFFSETTO:+0200
TZNAME:CEST
END:DAYLIGHT
END:VTIMEZONE
END:VCALENDAR