BEGIN:VCALENDAR
VERSION:2.0
PRODID:-//wp-events-plugin.com//7.2.3.1//EN
TZID:Europe/Berlin
X-WR-TIMEZONE:Europe/Berlin
BEGIN:VEVENT
UID:0-3956@pv-prutting-vogtareuth.de
DTSTART;TZID=Europe/Berlin:20170605T054500
DTEND;TZID=Europe/Berlin:20170605T054500
DTSTAMP:20170513T153041Z
URL:https://pv-prutting-vogtareuth.de/events/radlwallfahrt-nach-altoetting
 -2/
SUMMARY:Radlwallfahrt nach Altötting
DESCRIPTION:Abfahrt bei Bader in Unterwindering\, Anmeldung und Auskunft be
 i Agnes Gögerl\, Tel. 08038/1217.
CATEGORIES:.Gottesdienst,GkF Vogtareuth,Gottesdienst
 Straßkirchen,Gottesdienst Vogtareuth,Veranstaltung,Vogtareuth
END:VEVENT
BEGIN:VTIMEZONE
TZID:Europe/Berlin
X-LIC-LOCATION:Europe/Berlin
BEGIN:DAYLIGHT
DTSTART:20170326T030000
TZOFFSETFROM:+0100
TZOFFSETTO:+0200
TZNAME:CEST
END:DAYLIGHT
END:VTIMEZONE
END:VCALENDAR