BEGIN:VCALENDAR
VERSION:2.0
PRODID:-//wp-events-plugin.com//7.2.3.1//EN
TZID:Europe/Berlin
X-WR-TIMEZONE:Europe/Berlin
BEGIN:VEVENT
UID:0-2097@pv-prutting-vogtareuth.de
DTSTART;TZID=Europe/Berlin:20150816T110000
DTEND;TZID=Europe/Berlin:20150816T110000
DTSTAMP:20150801T054053Z
URL:https://pv-prutting-vogtareuth.de/events/quartalsfruehschoppen-des-tra
 egervereins-zaisering/
SUMMARY:Quartalsfrühschoppen des Trägervereins Zaisering
DESCRIPTION:Eingeladen sin dalle Mitglieder und alle anderen\, die Interess
 e an einem geselligen Beisammensein haben.
CATEGORIES:KiGa ZAI,Kinder,Veranstaltung,Zaisering
LOCATION:Gasthaus Hofmüller\, Vogtareuther Str. 2\, Zaisering\, 83569\, De
 utschland
GEO:47.90348324933455;12.147946763229356
X-APPLE-STRUCTURED-LOCATION;VALUE=URI;X-ADDRESS=Vogtareuther Str. 2\, Zaise
 ring\, 83569\, Deutschland;X-APPLE-RADIUS=100;X-TITLE=Gasthaus Hofmüller:
 geo:47.90348324933455,12.147946763229356
END:VEVENT
BEGIN:VTIMEZONE
TZID:Europe/Berlin
X-LIC-LOCATION:Europe/Berlin
BEGIN:DAYLIGHT
DTSTART:20150329T030000
TZOFFSETFROM:+0100
TZOFFSETTO:+0200
TZNAME:CEST
END:DAYLIGHT
END:VTIMEZONE
END:VCALENDAR