BEGIN:VCALENDAR
VERSION:2.0
PRODID:-//wp-events-plugin.com//7.2.3.1//EN
TZID:Europe/Berlin
X-WR-TIMEZONE:Europe/Berlin
BEGIN:VEVENT
UID:0-10630@pv-prutting-vogtareuth.de
DTSTART;TZID=Europe/Berlin:20250629T101500
DTEND;TZID=Europe/Berlin:20250629T101500
DTSTAMP:20250622T053739Z
URL:https://pv-prutting-vogtareuth.de/events/pfarrverbandsgottesdienst-als
 -festgottesdienst-zum-patrozinium-mit-ministrantenaufnahme/
SUMMARY:Pfarrverbandsgottesdienst als Festgottesdienst zum Patrozinium mit 
 Ministrantenaufnahme
DESCRIPTION:Zum Kirchenpatrozinium werden wir heuer auch die neuen Ministra
 nten der Gemeinde vorstellen (wir finden\, dieser Termin passt besser als 
 im Herbst). Im Anschluss sind alle eingeladen zu einem gemütlichen Frühs
 choppen am oder im Pfarrheim.\n\nHl. Petrus und hl. Paulus
CATEGORIES:.Gottesdienst,Gottesdienst Pfarrverband,Gottesdienst
 Schwabering,Ministranten Schwabering,Pfarrverband,Schwabering
LOCATION:St. Peter\, Dorfstraße 3\, Schwabering\, 83139\, Deutschland
GEO:47.903596;12.235272
X-APPLE-STRUCTURED-LOCATION;VALUE=URI;X-ADDRESS=Dorfstraße 3\, Schwabering
 \, 83139\, Deutschland;X-APPLE-RADIUS=100;X-TITLE=St. Peter:geo:47.903596,
 12.235272
END:VEVENT
BEGIN:VTIMEZONE
TZID:Europe/Berlin
X-LIC-LOCATION:Europe/Berlin
BEGIN:DAYLIGHT
DTSTART:20250330T030000
TZOFFSETFROM:+0100
TZOFFSETTO:+0200
TZNAME:CEST
END:DAYLIGHT
END:VTIMEZONE
END:VCALENDAR