BEGIN:VCALENDAR
VERSION:2.0
PRODID:-//wp-events-plugin.com//7.2.3.1//EN
TZID:Europe/Berlin
X-WR-TIMEZONE:Europe/Berlin
BEGIN:VEVENT
UID:0-8686@pv-prutting-vogtareuth.de
DTSTART;TZID=Europe/Berlin:20230122T101500
DTEND;TZID=Europe/Berlin:20230122T101500
DTSTAMP:20230112T044209Z
URL:https://pv-prutting-vogtareuth.de/events/pfarrverbandsgottesdienst-137
 /
SUMMARY:Pfarrverbandsgottesdienst mit Orgelweihe
DESCRIPTION:Joseph Haydn: Missa brevis Sti. Joannis de Deo – Kleine Orge
 lsolomesse in B\n\nAnschließend Bewirtung zu Mittag im Pfarrheim\, am Na
 chmittag gibt’s Kaffee und Kuchen. Ab ca. 13 Uhr: Möglichkeit zur Besic
 htigung der Orgel in Kleingruppen. Um 16 Uhr gibt Prof. Friedemann Winklho
 fer (Konzertorganist und Orgelsachverständiger der Erzdiözese München-F
 reising) dann noch ein Orgelkonzert in der Kirche St. Emmeram.\n\n3. Sonn
 tag im Jahreskreis\n\n
CATEGORIES:.Gottesdienst,Gottesdienst Pfarrverband,Gottesdienst
 Vogtareuth,Pfarrverband,Vogtareuth
LOCATION:St. Emmeram\, Kirchplatz 1\, Vogtareuth\, 83569\, Deutschland
GEO:47.947833;12.181734
X-APPLE-STRUCTURED-LOCATION;VALUE=URI;X-ADDRESS=Kirchplatz 1\, Vogtareuth\,
  83569\, Deutschland;X-APPLE-RADIUS=100;X-TITLE=St. Emmeram:geo:47.947833,
 12.181734
END:VEVENT
BEGIN:VTIMEZONE
TZID:Europe/Berlin
X-LIC-LOCATION:Europe/Berlin
BEGIN:STANDARD
DTSTART:20221030T020000
TZOFFSETFROM:+0200
TZOFFSETTO:+0100
TZNAME:CET
END:STANDARD
END:VTIMEZONE
END:VCALENDAR