BEGIN:VCALENDAR
VERSION:2.0
PRODID:-//wp-events-plugin.com//7.2.3.1//EN
TZID:Europe/Berlin
X-WR-TIMEZONE:Europe/Berlin
BEGIN:VEVENT
UID:0-2965@pv-prutting-vogtareuth.de
DTSTART;TZID=Europe/Berlin:20160619T111500
DTEND;TZID=Europe/Berlin:20160619T111500
DTSTAMP:20160604T152118Z
URL:https://pv-prutting-vogtareuth.de/events/pfarrfest-9/
SUMMARY:Pfarrfest
DESCRIPTION:im Anschluss an den Festgottesdienst mit Prozession zum Kirchen
 patrozinium. Neben verschiedenen Angeboten zum Mittagstisch sowie Kaffee u
 nd Kuchen gibt es auch Live-Musik sowie unsere traditionelle Tombola.\n\nD
 er Pfarrgemeinderat Zaisering/Leonhardspfunzen lädt dazu alle Mitglieder 
 unseres Pfarrverbands herzlich ein. Wir freuen uns auf eine gemeinsame Fei
 er!
CATEGORIES:Fest,Leonhardspfunzen,PGR Zaisering,Veranstaltung,Zaisering
LOCATION:Pfarrhaus St. Vitus\, Hauptstraße 6\, Zaisering\, 83569\, Deutsch
 land
GEO:47.90439;12.14713
X-APPLE-STRUCTURED-LOCATION;VALUE=URI;X-ADDRESS=Hauptstraße 6\, Zaisering\
 , 83569\, Deutschland;X-APPLE-RADIUS=100;X-TITLE=Pfarrhaus St. Vitus:geo:4
 7.90439,12.14713
END:VEVENT
BEGIN:VTIMEZONE
TZID:Europe/Berlin
X-LIC-LOCATION:Europe/Berlin
BEGIN:DAYLIGHT
DTSTART:20160327T030000
TZOFFSETFROM:+0100
TZOFFSETTO:+0200
TZNAME:CEST
END:DAYLIGHT
END:VTIMEZONE
END:VCALENDAR