BEGIN:VCALENDAR
VERSION:2.0
PRODID:-//wp-events-plugin.com//7.2.3.1//EN
TZID:Europe/Berlin
X-WR-TIMEZONE:Europe/Berlin
BEGIN:VEVENT
UID:0-2811@pv-prutting-vogtareuth.de
DTSTART;TZID=Europe/Berlin:20160626T111500
DTEND;TZID=Europe/Berlin:20160626T111500
DTSTAMP:20160620T040509Z
URL:https://pv-prutting-vogtareuth.de/events/pfarrfest-8/
SUMMARY:Pfarrfest mit Bücherflohmarkt
DESCRIPTION:\n\nim und ums Pfarrheim Schwabering im Anschluss an den Festgo
 ttesdienst zum Kirchenpatrozinium\, mit Musik\, Kasperltheater\, Märchene
 rzählerin\, Hüpfburg und Spielen\, Mittagstisch mit Steckerlfisch\, Brat
 en und Pizza sowie der Kaffee-und-Kuchen-Aktion der Frauengemeinschaft. Ne
 u ist heuer der Bücherflohmarkt: gebrauchte Bücher\, DVDs etc. für Gro
 ß und Klein (der Erlös kommt dem Kindergarten Schwabering zugute). Wer m
 ag\, bringt sein Lieblingsbuch zum Selberlesen oder zum Vorlesen mit. Wer 
 will\, kann die gehörten Geschichten anschließend zeichnen und malen. Un
 d wer noch nicht lesen kann\, hört einfach der Märchenerzählerin zu 
 …\n\nAuf euer zahlreiches Kommen freuen sich der Schwaberinger Pfarrgeme
 inderat und die Kirchenverwaltung!
CATEGORIES:Fest,Frauen Schwabering,PGR
 Schwabering,Schwabering,Veranstaltung
LOCATION:Pfarrheim St. Peter\, Dorfstraße 1\, Schwabering\, 83139\, Deutsc
 hland
GEO:47.903195;12.235192
X-APPLE-STRUCTURED-LOCATION;VALUE=URI;X-ADDRESS=Dorfstraße 1\, Schwabering
 \, 83139\, Deutschland;X-APPLE-RADIUS=100;X-TITLE=Pfarrheim St. Peter:geo:
 47.903195,12.235192
END:VEVENT
BEGIN:VTIMEZONE
TZID:Europe/Berlin
X-LIC-LOCATION:Europe/Berlin
BEGIN:DAYLIGHT
DTSTART:20160327T030000
TZOFFSETFROM:+0100
TZOFFSETTO:+0200
TZNAME:CEST
END:DAYLIGHT
END:VTIMEZONE
END:VCALENDAR