BEGIN:VCALENDAR
VERSION:2.0
PRODID:-//wp-events-plugin.com//7.2.3.1//EN
TZID:Europe/Berlin
X-WR-TIMEZONE:Europe/Berlin
BEGIN:VEVENT
UID:0-8184@pv-prutting-vogtareuth.de
DTSTART;TZID=Europe/Berlin:20220619T113000
DTEND;TZID=Europe/Berlin:20220619T113000
DTSTAMP:20220608T162523Z
URL:https://pv-prutting-vogtareuth.de/events/pfarrfest-18/
SUMMARY:Pfarrfest
DESCRIPTION:im Anschluss an den Festgottesdienst zum Kirchenpatrozinium mit
  Prozession\n\n
CATEGORIES:PGR Zaisering,Veranstaltung,Zaisering
LOCATION:Dorfmarkt Zaisering\, Hauptstraße 7\, Vogtareuth\, 83569\, Deutsc
 hland
X-APPLE-STRUCTURED-LOCATION;VALUE=URI;X-ADDRESS=Hauptstraße 7\, Vogtareuth
 \, 83569\, Deutschland;X-APPLE-RADIUS=100;X-TITLE=Dorfmarkt Zaisering:geo:
 0,0
END:VEVENT
BEGIN:VTIMEZONE
TZID:Europe/Berlin
X-LIC-LOCATION:Europe/Berlin
BEGIN:DAYLIGHT
DTSTART:20220327T030000
TZOFFSETFROM:+0100
TZOFFSETTO:+0200
TZNAME:CEST
END:DAYLIGHT
END:VTIMEZONE
END:VCALENDAR