BEGIN:VCALENDAR
VERSION:2.0
PRODID:-//wp-events-plugin.com//7.2.3.1//EN
TZID:Europe/Berlin
X-WR-TIMEZONE:Europe/Berlin
BEGIN:VEVENT
UID:0-8833@pv-prutting-vogtareuth.de
DTSTART;TZID=Europe/Berlin:20230322T170000
DTEND;TZID=Europe/Berlin:20230322T170000
DTSTAMP:20230302T071449Z
URL:https://pv-prutting-vogtareuth.de/events/osterkerzenbasteln-3/
SUMMARY:Osterkerzenbasteln
DESCRIPTION:der Frauengemeinschaft Zaisering/Leonhardspfunzen. Der Verkauf 
 findet dann nach den Gottesdiensten zum Palmsonntag in Zaisering und Leonh
 ardspfunzen statt
CATEGORIES:kfd Zaisering-Leonhardspfunzen,Veranstaltung,Zaisering
LOCATION:Altes Florianstüberl\, Hauptstraße 9\, Zaisering\, 83569\, Deuts
 chland
X-APPLE-STRUCTURED-LOCATION;VALUE=URI;X-ADDRESS=Hauptstraße 9\, Zaisering\
 , 83569\, Deutschland;X-APPLE-RADIUS=100;X-TITLE=Altes Florianstüberl:geo
 :0,0
END:VEVENT
BEGIN:VTIMEZONE
TZID:Europe/Berlin
X-LIC-LOCATION:Europe/Berlin
BEGIN:STANDARD
DTSTART:20221030T020000
TZOFFSETFROM:+0200
TZOFFSETTO:+0100
TZNAME:CET
END:STANDARD
END:VTIMEZONE
END:VCALENDAR