BEGIN:VCALENDAR
VERSION:2.0
PRODID:-//wp-events-plugin.com//7.2.3.1//EN
TZID:Europe/Berlin
X-WR-TIMEZONE:Europe/Berlin
BEGIN:VEVENT
UID:0-8691@pv-prutting-vogtareuth.de
DTSTART;TZID=Europe/Berlin:20230122T160000
DTEND;TZID=Europe/Berlin:20230122T160000
DTSTAMP:20230112T052633Z
URL:https://pv-prutting-vogtareuth.de/events/orgelkonzert-zur-orgelweihe/
SUMMARY:Orgelkonzert zur Orgelweihe
DESCRIPTION:mit Prof. Friedemann Winklhofer (Konzertorganist\, Orgelsachver
 ständiger der Erzdiözese München und Freising) und Werken von Bach\,
  Mendelssohn\, Pachelbel u.a.\n\n\n\n\n\nEintritt frei\, Spenden erbeten\;
  Veranstalter: Orgelbauverein St. Emmeram Vogtareuth e.V.\n\n\n\n\n\n\n
CATEGORIES:Konzert,Veranstaltung,Vogtareuth
LOCATION:St. Emmeram\, Kirchplatz 1\, Vogtareuth\, 83569\, Deutschland
GEO:47.947833;12.181734
X-APPLE-STRUCTURED-LOCATION;VALUE=URI;X-ADDRESS=Kirchplatz 1\, Vogtareuth\,
  83569\, Deutschland;X-APPLE-RADIUS=100;X-TITLE=St. Emmeram:geo:47.947833,
 12.181734
END:VEVENT
BEGIN:VTIMEZONE
TZID:Europe/Berlin
X-LIC-LOCATION:Europe/Berlin
BEGIN:STANDARD
DTSTART:20221030T020000
TZOFFSETFROM:+0200
TZOFFSETTO:+0100
TZNAME:CET
END:STANDARD
END:VTIMEZONE
END:VCALENDAR