BEGIN:VCALENDAR
VERSION:2.0
PRODID:-//wp-events-plugin.com//7.2.3.1//EN
TZID:Europe/Berlin
X-WR-TIMEZONE:Europe/Berlin
BEGIN:VEVENT
UID:0-8788@pv-prutting-vogtareuth.de
DTSTART;TZID=Europe/Berlin:20230307T193000
DTEND;TZID=Europe/Berlin:20230307T193000
DTSTAMP:20230302T054539Z
URL:https://pv-prutting-vogtareuth.de/events/oeffentliche-sitzung-des-pfar
 rverbandsrats-4/
SUMMARY:Öffentliche Sitzung des Pfarrverbandsrats
DESCRIPTION:Tagesordnung\n\n 	Geistliches Wort\n 	Strukturprozesse in der E
 rzdiözese\n 	Liturgische Themen\n 	Aus dem PV-Wochenende entstandene Proj
 ekte\n 	Vorbereitung auf die Erstkommunion\n 	Sonstiges\n
CATEGORIES:Hl. Erstkommunion,Pfarrverband,Veranstaltung,Zaisering
LOCATION:Pfarrhaus St. Vitus\, Hauptstraße 6\, Zaisering\, 83569\, Deutsch
 land
GEO:47.90439;12.14713
X-APPLE-STRUCTURED-LOCATION;VALUE=URI;X-ADDRESS=Hauptstraße 6\, Zaisering\
 , 83569\, Deutschland;X-APPLE-RADIUS=100;X-TITLE=Pfarrhaus St. Vitus:geo:4
 7.90439,12.14713
END:VEVENT
BEGIN:VTIMEZONE
TZID:Europe/Berlin
X-LIC-LOCATION:Europe/Berlin
BEGIN:STANDARD
DTSTART:20221030T020000
TZOFFSETFROM:+0200
TZOFFSETTO:+0100
TZNAME:CET
END:STANDARD
END:VTIMEZONE
END:VCALENDAR