BEGIN:VCALENDAR
VERSION:2.0
PRODID:-//wp-events-plugin.com//7.2.3.1//EN
TZID:Europe/Berlin
X-WR-TIMEZONE:Europe/Berlin
BEGIN:VEVENT
UID:0-10606@pv-prutting-vogtareuth.de
DTSTART;TZID=Europe/Berlin:20250410T193000
DTEND;TZID=Europe/Berlin:20250410T193000
DTSTAMP:20250403T115933Z
URL:https://pv-prutting-vogtareuth.de/events/oeffentliche-sitzung-des-pfar
 rgemeinderats-8/
SUMMARY:Öffentliche Sitzung des Pfarrgemeinderats
DESCRIPTION:Tagesordnung\n\n 	Geistliches Wort (Sepp Liegl)\n 	Info\n\n 	Da
 nkandacht Erstkommunion 04.05.2025\n 	Pfingstvesper 07.06.2025\n 	Sternbit
 tgang 06.07.2025\n 	Ferienprogramm\n 	PGR-Wahlen 2026\n\n\n 	Berichte/Beit
 räge\n\n 	KV\n 	Frauengemeinschaft\n 	Landjugend\n 	Ministranten\n 	WGL\n
  	Fago-Team\n\n\n 	Pfarrverbandsrat\n\n 	Gottesdienstzeiten\n\n\n 	Dekanat
 srat\n 	Fronleichnam 19.06.2025\n 	Flüchtlingshilfe\n 	Wünsche/Anregunge
 n/Sonstiges\n\n 	Nächste Sitzung\n 	Geistliches Wort\n\n\n
CATEGORIES:AK Familie Vogtareuth,GkF Vogtareuth,Jugendchor
 Vogtareuth,Kinderchor Vogtareuth,Kirchenchor Vogtareuth,KLJB
 Vogtareuth,Ministranten Vogtareuth,PGR Vogtareuth,Veranstaltung,Vogtareuth
LOCATION:Pfarrheim St. Emmeram\, Rosenheimer Str. 3\, Vogtareuth\, 83569\, 
 Deutschland
X-APPLE-STRUCTURED-LOCATION;VALUE=URI;X-ADDRESS=Rosenheimer Str. 3\, Vogtar
 euth\, 83569\, Deutschland;X-APPLE-RADIUS=100;X-TITLE=Pfarrheim St. Emmera
 m:geo:0,0
END:VEVENT
BEGIN:VTIMEZONE
TZID:Europe/Berlin
X-LIC-LOCATION:Europe/Berlin
BEGIN:DAYLIGHT
DTSTART:20250330T030000
TZOFFSETFROM:+0100
TZOFFSETTO:+0200
TZNAME:CEST
END:DAYLIGHT
END:VTIMEZONE
END:VCALENDAR