BEGIN:VCALENDAR
VERSION:2.0
PRODID:-//wp-events-plugin.com//7.2.3.1//EN
TZID:Europe/Berlin
X-WR-TIMEZONE:Europe/Berlin
BEGIN:VEVENT
UID:0-1335@pv-prutting-vogtareuth.de
DTSTART;TZID=Europe/Berlin:20141129T090000
DTEND;TZID=Europe/Berlin:20141129T120000
DTSTAMP:20141111T140605Z
URL:https://pv-prutting-vogtareuth.de/events/kosovo-sammlung-junge-leute-h
 elfen/
SUMMARY:Kosovo-Sammlung der KFD „Prutting hilft“
DESCRIPTION:Anlieferung bitte in Bananenschachteln
CATEGORIES:Prutting
LOCATION:Thusbaß-Halle\, Gewerbering 7\, Prutting\, 83134\, Deutschland
GEO:47.89849491042558;12.201837492065465
X-APPLE-STRUCTURED-LOCATION;VALUE=URI;X-ADDRESS=Gewerbering 7\, Prutting\, 
 83134\, Deutschland;X-APPLE-RADIUS=100;X-TITLE=Thusbaß-Halle:geo:47.89849
 491042558,12.201837492065465
END:VEVENT
BEGIN:VTIMEZONE
TZID:Europe/Berlin
X-LIC-LOCATION:Europe/Berlin
BEGIN:STANDARD
DTSTART:20141026T020000
TZOFFSETFROM:+0200
TZOFFSETTO:+0100
TZNAME:CET
END:STANDARD
END:VTIMEZONE
END:VCALENDAR