BEGIN:VCALENDAR
VERSION:2.0
PRODID:-//wp-events-plugin.com//7.2.3.1//EN
TZID:Europe/Berlin
X-WR-TIMEZONE:Europe/Berlin
BEGIN:VEVENT
UID:0-8900@pv-prutting-vogtareuth.de
DTSTART;TZID=Europe/Berlin;VALUE=DATE:20230518
DTEND;TZID=Europe/Berlin;VALUE=DATE:20230519
DTSTAMP:20230325T050658Z
URL:https://pv-prutting-vogtareuth.de/events/kljb-vogtareuth-auf-dem-bursc
 henfest-pastetten/
SUMMARY:KLJB Vogtareuth auf dem Burschenfest Pastetten
DESCRIPTION:https://www.burschengemeinschaft.de/\n
CATEGORIES:KLJB Vogtareuth,Veranstaltung,Vogtareuth
END:VEVENT
BEGIN:VTIMEZONE
TZID:Europe/Berlin
X-LIC-LOCATION:Europe/Berlin
BEGIN:DAYLIGHT
DTSTART:20230326T030000
TZOFFSETFROM:+0100
TZOFFSETTO:+0200
TZNAME:CEST
END:DAYLIGHT
END:VTIMEZONE
END:VCALENDAR