BEGIN:VCALENDAR
VERSION:2.0
PRODID:-//wp-events-plugin.com//7.2.3.1//EN
TZID:Europe/Berlin
X-WR-TIMEZONE:Europe/Berlin
BEGIN:VEVENT
UID:0-6463@pv-prutting-vogtareuth.de
DTSTART;TZID=Europe/Berlin:20200301T100000
DTEND;TZID=Europe/Berlin:20200301T100000
DTSTAMP:20200214T122202Z
URL:https://pv-prutting-vogtareuth.de/events/kljb-jahreshauptversammlung-m
 it-neuwahlen/
SUMMARY:Jahreshauptversammlung der KLJB mit Neuwahlen
DESCRIPTION:im Anschluss an den 9-Uhr-Gottesdienst\n
CATEGORIES:KLJB Vogtareuth,Veranstaltung,Vogtareuth
LOCATION:Pfarrheim St. Emmeram\, Rosenheimer Str. 3\, Vogtareuth\, 83569\, 
 Deutschland
X-APPLE-STRUCTURED-LOCATION;VALUE=URI;X-ADDRESS=Rosenheimer Str. 3\, Vogtar
 euth\, 83569\, Deutschland;X-APPLE-RADIUS=100;X-TITLE=Pfarrheim St. Emmera
 m:geo:0,0
END:VEVENT
BEGIN:VTIMEZONE
TZID:Europe/Berlin
X-LIC-LOCATION:Europe/Berlin
BEGIN:STANDARD
DTSTART:20191027T020000
TZOFFSETFROM:+0200
TZOFFSETTO:+0100
TZNAME:CET
END:STANDARD
END:VTIMEZONE
END:VCALENDAR