BEGIN:VCALENDAR
VERSION:2.0
PRODID:-//wp-events-plugin.com//7.2.3.1//EN
TZID:Europe/Berlin
X-WR-TIMEZONE:Europe/Berlin
BEGIN:VEVENT
UID:0-3438@pv-prutting-vogtareuth.de
DTSTART;TZID=Europe/Berlin:20170103T193000
DTEND;TZID=Europe/Berlin:20170103T193000
DTSTAMP:20161126T072116Z
URL:https://pv-prutting-vogtareuth.de/events/kfd-stammtisch-3/
SUMMARY:kfd-Stammtisch
DESCRIPTION:
ATTACH;FMTTYPE=image/jpeg:https://pv-prutting-vogtareuth.de/wp-content/upl
 oads/2014/05/File_001.jpg
CATEGORIES:kfd Zaisering-Leonhardspfunzen,Veranstaltung,Zaisering
LOCATION:Gasthaus Hofmüller\, Vogtareuther Str. 2\, Zaisering\, 83569\, De
 utschland
GEO:47.90348324933455;12.147946763229356
X-APPLE-STRUCTURED-LOCATION;VALUE=URI;X-ADDRESS=Vogtareuther Str. 2\, Zaise
 ring\, 83569\, Deutschland;X-APPLE-RADIUS=100;X-TITLE=Gasthaus Hofmüller:
 geo:47.90348324933455,12.147946763229356
END:VEVENT
BEGIN:VTIMEZONE
TZID:Europe/Berlin
X-LIC-LOCATION:Europe/Berlin
BEGIN:STANDARD
DTSTART:20161030T020000
TZOFFSETFROM:+0200
TZOFFSETTO:+0100
TZNAME:CET
END:STANDARD
END:VTIMEZONE
END:VCALENDAR