BEGIN:VCALENDAR
VERSION:2.0
PRODID:-//wp-events-plugin.com//7.2.3.1//EN
TZID:Europe/Berlin
X-WR-TIMEZONE:Europe/Berlin
BEGIN:VEVENT
UID:0-9832@pv-prutting-vogtareuth.de
DTSTART;TZID=Europe/Berlin:20240508T193000
DTEND;TZID=Europe/Berlin:20240508T193000
DTSTAMP:20240425T074736Z
URL:https://pv-prutting-vogtareuth.de/events/jahreshauptversammlung-der-ge
 meinschaft-katholischer-frauen/
SUMMARY:Jahreshauptversammlung der Gemeinschaft katholischer Frauen
DESCRIPTION:Im Anschluss an die Maiandacht.\n\n\nTagesordnung\n\n 	Begrüß
 ung\n 	Gedenken an unsere Verstorbenen\n 	Schriftführerbericht\n 	Kassenb
 ericht\n 	Entlastung der Vorstandschaft\n 	Grußworte\n 	Neuaufnahmen\n 	E
 hrungen\n 	Jahresvorschau\n 	Wünsche und Anträge\n
CATEGORIES:GkF Vogtareuth,Veranstaltung,Vogtareuth
LOCATION:Pfarrheim St. Emmeram\, Rosenheimer Str. 3\, Vogtareuth\, 83569\, 
 Deutschland
X-APPLE-STRUCTURED-LOCATION;VALUE=URI;X-ADDRESS=Rosenheimer Str. 3\, Vogtar
 euth\, 83569\, Deutschland;X-APPLE-RADIUS=100;X-TITLE=Pfarrheim St. Emmera
 m:geo:0,0
END:VEVENT
BEGIN:VTIMEZONE
TZID:Europe/Berlin
X-LIC-LOCATION:Europe/Berlin
BEGIN:DAYLIGHT
DTSTART:20240331T030000
TZOFFSETFROM:+0100
TZOFFSETTO:+0200
TZNAME:CEST
END:DAYLIGHT
END:VTIMEZONE
END:VCALENDAR