BEGIN:VCALENDAR
VERSION:2.0
PRODID:-//wp-events-plugin.com//7.2.3.1//EN
TZID:Europe/Berlin
X-WR-TIMEZONE:Europe/Berlin
BEGIN:VEVENT
UID:0-11587@pv-prutting-vogtareuth.de
DTSTART;TZID=Europe/Berlin:20260513T193000
DTEND;TZID=Europe/Berlin:20260513T193000
DTSTAMP:20260424T051026Z
URL:https://pv-prutting-vogtareuth.de/events/jahreshauptversammlung-der-ge
 meinschaft-katholischer-frauen-vogtareuth-5/
SUMMARY:Jahreshauptversammlung der Gemeinschaft katholischer Frauen Vogtare
 uth
DESCRIPTION:\n\nDie diesjährige Jahreshauptversammlung findet am 13. Mai 
 statt. Um 19 Uhr feiern wir eine Maiandacht\, bevor im Anschluss die Vers
 ammlung im Pfarrsaal abgehalten wird. Im diesjährigen Jubiläumsjahr wird
  es einen Sektempfang und eine lustige Einlage geben. Wir freuen und auf e
 uer Kommen!\nTagesordnung\n\n 	Begrüßung\n 	Gedenken unserer Verstorbene
 n\n 	Schriftführerbericht\n 	Kassenbericht\n 	Entlastung der Vorstandscha
 ft\n 	Grußworte\n 	Neuaufnahmen\n 	Ehrungen\n 	Jahresvorschau\n 	Wünsche
  und Anträge\n
CATEGORIES:GkF Vogtareuth,Veranstaltung,Vogtareuth
LOCATION:Pfarrheim St. Emmeram\, Rosenheimer Str. 3\, Vogtareuth\, 83569\, 
 Deutschland
X-APPLE-STRUCTURED-LOCATION;VALUE=URI;X-ADDRESS=Rosenheimer Str. 3\, Vogtar
 euth\, 83569\, Deutschland;X-APPLE-RADIUS=100;X-TITLE=Pfarrheim St. Emmera
 m:geo:0,0
END:VEVENT
BEGIN:VTIMEZONE
TZID:Europe/Berlin
X-LIC-LOCATION:Europe/Berlin
BEGIN:DAYLIGHT
DTSTART:20260329T030000
TZOFFSETFROM:+0100
TZOFFSETTO:+0200
TZNAME:CEST
END:DAYLIGHT
END:VTIMEZONE
END:VCALENDAR