BEGIN:VCALENDAR
VERSION:2.0
PRODID:-//wp-events-plugin.com//7.2.3.1//EN
TZID:Europe/Berlin
X-WR-TIMEZONE:Europe/Berlin
BEGIN:VEVENT
UID:0-8915@pv-prutting-vogtareuth.de
DTSTART;TZID=Europe/Berlin:20230517T194500
DTEND;TZID=Europe/Berlin:20230517T194500
DTSTAMP:20230422T075751Z
URL:https://pv-prutting-vogtareuth.de/events/jahreshauptversammlung-der-ge
 meinschaft-katholischer-frauen-vogtareuth-4/
SUMMARY:Jahreshauptversammlung der Gemeinschaft katholischer Frauen Vogtare
 uth
DESCRIPTION:Im Anschluss an die Maiandacht.\n\n\nTagesordnung\n\n 	Begrüß
 ung\n 	Gedenken unserer Verstorbenen\n 	Schriftführerbericht\n 	Kassenber
 icht\n 	Entlastung der Vorstandschaft\n 	Grußworte\n 	Neuaufnahmen\n 	Neu
 wahlen\n 	Ehrungen\n 	Jahresvorschau\n 	Wünsche und Anträge\n
CATEGORIES:GkF Vogtareuth,Veranstaltung,Vogtareuth
LOCATION:Pfarrheim St. Emmeram\, Rosenheimer Str. 3\, Vogtareuth\, 83569\, 
 Deutschland
X-APPLE-STRUCTURED-LOCATION;VALUE=URI;X-ADDRESS=Rosenheimer Str. 3\, Vogtar
 euth\, 83569\, Deutschland;X-APPLE-RADIUS=100;X-TITLE=Pfarrheim St. Emmera
 m:geo:0,0
END:VEVENT
BEGIN:VTIMEZONE
TZID:Europe/Berlin
X-LIC-LOCATION:Europe/Berlin
BEGIN:DAYLIGHT
DTSTART:20230326T030000
TZOFFSETFROM:+0100
TZOFFSETTO:+0200
TZNAME:CEST
END:DAYLIGHT
END:VTIMEZONE
END:VCALENDAR