BEGIN:VCALENDAR
VERSION:2.0
PRODID:-//wp-events-plugin.com//7.2.3.1//EN
TZID:Europe/Berlin
X-WR-TIMEZONE:Europe/Berlin
BEGIN:VEVENT
UID:0-1510@pv-prutting-vogtareuth.de
DTSTART;TZID=Europe/Berlin:20150118T100000
DTEND;TZID=Europe/Berlin:20150118T100000
DTSTAMP:20141215T172601Z
URL:https://pv-prutting-vogtareuth.de/events/jahreshauptversammlung-der-ge
 meinschaft-katholischer-frauen-mit-neuwahlen/
SUMMARY:Jahreshauptversammlung der Gemeinschaft katholischer Frauen
DESCRIPTION:mit Neuwahlen\, Ehrungen und Neuaufnahmen (im Anschluss an den 
 Pfarrgottesdienst)\n\nSeit 1926 gibt es in Vogtareuth den „Christlichen 
 Mütterverein“\, wie er zu jener Zeit genannt wurde. Das Ziel war damals
 \, wie es in einem Mitgliedsaufnahmezeugnis aus dem Jahre 1949 heißt: jee
 r einzelnen Mutter zu helfen\, ihren schweren Beruf treu und segensreich z
 u erfüllen\, um den Kindern eine gute Erziehung im Geiste der Kirche zu g
 eben. Heute\, nach fast 90 Jahren\, haben wir nicht nur einen anderen Name
 n\, sondern auch die Prioritäten haben sich schon ein wenig geändert.\n\
 nGemeinschaft ist unser Hauptziel\, denn gemeinsame Erlebnisse verbinden: 
 miteinander glauben\, miteinander das Leben teilen\, gemeinsam auf dem Weg
  sein\, gemeinsam mit ehrenamtlichem Engagement Gutes tun. Ob bei Gottesdi
 ensten\, Maiandachten\, Ausflügen\, Vorträgen\, Seniorennachmittagen\, E
 inkehrtagen\, Faschimgskranzln\, Geburtstags- oder Krankenbesuchen oder z.
 B. bei den Vorbereitungen zum Adventsbasar: das gemeinsame Erleben und Zus
 ammenhalten ist das Schöne daran. Und was man gemeinsam alles schaffen ka
 nn!\n\nDamit wir diese Gemeinschaft aber auch aufrecht erhalten können\, 
 brauchen wir Dich zur Mithilfe. Wir freuen uns\, wenn Du gerne in unserer 
 Vorstandschaft mitwirken willst. Oder wenn Du Mitglied in unserer Gemeinsc
 haft werden möchtest. Dann melde Dich gleich bei Agnes Gögerl\, Tel. 12
 17.
CATEGORIES:Vogtareuth
LOCATION:Feuerwehrhaus Vogtareuth\, Vogteistraße 5\, Vogtareuth\, 83569\, 
 Deutschland
GEO:47.94684121943967;12.182292576721238
X-APPLE-STRUCTURED-LOCATION;VALUE=URI;X-ADDRESS=Vogteistraße 5\, Vogtareut
 h\, 83569\, Deutschland;X-APPLE-RADIUS=100;X-TITLE=Feuerwehrhaus Vogtareut
 h:geo:47.94684121943967,12.182292576721238
END:VEVENT
BEGIN:VTIMEZONE
TZID:Europe/Berlin
X-LIC-LOCATION:Europe/Berlin
BEGIN:STANDARD
DTSTART:20141026T020000
TZOFFSETFROM:+0200
TZOFFSETTO:+0100
TZNAME:CET
END:STANDARD
END:VTIMEZONE
END:VCALENDAR