BEGIN:VCALENDAR
VERSION:2.0
PRODID:-//wp-events-plugin.com//7.2.3.1//EN
TZID:Europe/Berlin
X-WR-TIMEZONE:Europe/Berlin
BEGIN:VEVENT
UID:0-7939@pv-prutting-vogtareuth.de
DTSTART;TZID=Europe/Berlin:20220525T194500
DTEND;TZID=Europe/Berlin:20220525T194500
DTSTAMP:20220501T145743Z
URL:https://pv-prutting-vogtareuth.de/events/jahreshauptversammlung-der-fr
 auengemeinschaft-3/
SUMMARY:Jahreshauptversammlung der Frauengemeinschaft
DESCRIPTION:im Anschluss an die Mainandacht\nTagesordnung:\n\n\n 	\n\n 	Beg
 rüßung\n 	Gedenken unserer Verstorbenen\n 	Schriftführerbericht für 20
 20 und 2021\n 	Kassenbericht für 2020 und 2021\n 	Entlastung der Vorstand
 schaft\n 	Grußworte\n 	Ehrungen\n 	Neuaufnahmen\n 	Satzungsänderung*\n 	
 Erhöhung des Mitgliedsbeitrages\n 	Jahresvorschau\n 	Wünsche und Anträg
 e\n\n\n\n* Die Satzungsänderung kann im Schaukasten des Pfarrhofs eingese
 hen werden.\nAuf euren Besuch freut sich die Gemeinschaft katholischer Fra
 uen Vogtareuth.
CATEGORIES:GkF Vogtareuth,Veranstaltung,Vogtareuth
LOCATION:Pfarrheim St. Emmeram\, Rosenheimer Str. 3\, Vogtareuth\, 83569\, 
 Deutschland
X-APPLE-STRUCTURED-LOCATION;VALUE=URI;X-ADDRESS=Rosenheimer Str. 3\, Vogtar
 euth\, 83569\, Deutschland;X-APPLE-RADIUS=100;X-TITLE=Pfarrheim St. Emmera
 m:geo:0,0
END:VEVENT
BEGIN:VTIMEZONE
TZID:Europe/Berlin
X-LIC-LOCATION:Europe/Berlin
BEGIN:DAYLIGHT
DTSTART:20220327T030000
TZOFFSETFROM:+0100
TZOFFSETTO:+0200
TZNAME:CEST
END:DAYLIGHT
END:VTIMEZONE
END:VCALENDAR