BEGIN:VCALENDAR
VERSION:2.0
PRODID:-//wp-events-plugin.com//7.2.3.1//EN
TZID:Europe/Berlin
X-WR-TIMEZONE:Europe/Berlin
BEGIN:VEVENT
UID:0-5927@pv-prutting-vogtareuth.de
DTSTART;TZID=Europe/Berlin;VALUE=DATE:20200206
DTEND;TZID=Europe/Berlin;VALUE=DATE:20200214
DTSTAMP:20200204T172010Z
URL:https://pv-prutting-vogtareuth.de/events/israel-reise-der-kfd-zaiserin
 g-leonhardspfunzen/
SUMMARY:Israel-Reise der kfd Zaisering-Leonhardspfunzen
DESCRIPTION:Gemeinsam wollen wir auf biblischen Spuren wandern\, Orte sehen
 \, an denen die Geschichte unseres Glaubens erlebbar ist: die Wüste Negev
 \, den See Genezareth\, den Ölberg\, Betlehem\, Jerusalem\, das Tote Meer
 \, aber auch die jüdische Felsenstadt Masada. Zusammen wollen wir biblisc
 he Vergangenheit und moderne Gegenwart spüren in einem Land\, das auf eng
 em Raum ein vielfältiges und abwechslungsreiches Bild verspricht.\n\n[cap
 tion id="attachment_18722" align="alignright" width="150"] Infomaterial zu
 m Herunterladen[/caption]\n\nReisekosten: ca. 1600 Euro inkl. Flug\, Übe
 rnachtung mit Halbpension.\nGeistliche Begleitung: Katharina Hauer.\nAnmel
 dung und genaue Reiseinformation bis November 2019\, Rückfragen bitte dir
 ekt an Theresia Plankl. (Bei den Wanderungen wird  täglich die Wegstreck
 e bekannt gegeben\, sodass die\, die nicht so gut zu Fuß sind\, immer vor
  Beginn entscheiden können\, ob sie mitgehen oder nicht.)\n\nAm 29. Okto
 ber um 19:30 Uhr gibt es im Gemeindesaal Zaisering einen Diavortrag zur I
 srael-Reise.
ATTACH;FMTTYPE=image/jpeg:https://pv-prutting-vogtareuth.de/wp-content/upl
 oads/2014/05/File_001.jpg
CATEGORIES:Ausflug,kfd Zaisering-Leonhardspfunzen,Veranstaltung,Zaisering
END:VEVENT
BEGIN:VTIMEZONE
TZID:Europe/Berlin
X-LIC-LOCATION:Europe/Berlin
BEGIN:STANDARD
DTSTART:20191027T020000
TZOFFSETFROM:+0200
TZOFFSETTO:+0100
TZNAME:CET
END:STANDARD
END:VTIMEZONE
END:VCALENDAR