BEGIN:VCALENDAR
VERSION:2.0
PRODID:-//wp-events-plugin.com//7.2.3.1//EN
TZID:Europe/Berlin
X-WR-TIMEZONE:Europe/Berlin
BEGIN:VEVENT
UID:0-1520@pv-prutting-vogtareuth.de
DTSTART;TZID=Europe/Berlin:20150203T200000
DTEND;TZID=Europe/Berlin:20150203T200000
DTSTAMP:20150131T061101Z
URL:https://pv-prutting-vogtareuth.de/events/immer-perfekt-und-dann-k-o/
SUMMARY:Immer perfekt – und dann k.o.!?
DESCRIPTION:In allem perfekt sein – sei es als Mutter\, Tochter\, liebend
 e Partnerin oder Kollegin oder in der Haushaltsführung und im Ehrenamt 
 – und dabei gepflegt und durchgestylt … klingt übertrieben? Auch wen
 n wir wissen\, dass wir diesem fragwürdigen Frauenideal nie gerecht werde
 n können\, wenn wir diesem nur hinterherhecheln können\, bis uns sozusag
 en die Zunge heraushängt\, so ist es das\, was viele von uns wünschen un
 d erwarten. Und am meisten erwarten wir es von uns selbst.\n\nMut zum Nein
 sagen\, wenn es reicht. Seinlassen können\, was jetzt nicht nonnöten ist
 . Muße finden im Alltag. Erkennen\, was wirklich etwas bedeutet.\n\nDiese
 r Abend mit Referentin Ursula Stacheder soll dazu anregen\, sich von üerz
 ogenen Ansprüchen zu verabschieden und stattdessen dem Selbstvertrauen in
  das eigene Unperfekte ein wenig näher zu kommen. Der Pfarrgemeinderat\, 
 die Frauengemeinschaft und die Landfrauen Vogtareuth laden alle Interessie
 rten ein. Der Eintritt ist frei.\n\nVon Schwabering aus gibt es Fahrgemein
 schaften\; Auskunft erteilt Christine Eckl\, 08053-798962.\n\n
CATEGORIES:Veranstaltung,Vogtareuth
LOCATION:Pfarrhaus St. Emmeram\, Rosenheimer Straße 3\, Vogtareuth\, 83569
 \, Deutschland
GEO:47.947089;12.181421
X-APPLE-STRUCTURED-LOCATION;VALUE=URI;X-ADDRESS=Rosenheimer Straße 3\, Vog
 tareuth\, 83569\, Deutschland;X-APPLE-RADIUS=100;X-TITLE=Pfarrhaus St. Emm
 eram:geo:47.947089,12.181421
END:VEVENT
BEGIN:VTIMEZONE
TZID:Europe/Berlin
X-LIC-LOCATION:Europe/Berlin
BEGIN:STANDARD
DTSTART:20141026T020000
TZOFFSETFROM:+0200
TZOFFSETTO:+0100
TZNAME:CET
END:STANDARD
END:VTIMEZONE
END:VCALENDAR