BEGIN:VCALENDAR
VERSION:2.0
PRODID:-//wp-events-plugin.com//7.2.3.1//EN
TZID:Europe/Berlin
X-WR-TIMEZONE:Europe/Berlin
BEGIN:VEVENT
UID:0-401@pv-prutting-vogtareuth.de
DTSTART;TZID=Europe/Berlin:20140214T190000
DTEND;TZID=Europe/Berlin:20140214T190000
DTSTAMP:20140208T065404Z
URL:https://pv-prutting-vogtareuth.de/events/gottesdienst-fuer-paare/
SUMMARY:Gottesdienst für Paare
DESCRIPTION:Alle Verliebten\, Verlobten und Verheirateten sind herzlich ein
 geladen zum Paargottesdienst in Zaisering. Am Ende des Gottesdienstes best
 eht die Möglichkeit zur Paarsegnung. Anschließend Gelegenheit zur Einkeh
 r beim Botenwirt.\n
CATEGORIES:.Gottesdienst,Gottesdienst Pfarrverband,Gottesdienst
 Zaisering,Zaisering
LOCATION:St. Vitus\, Hauptstraße 9\, Zaisering\, 83569\, Deutschland
GEO:47.904156;12.147574
X-APPLE-STRUCTURED-LOCATION;VALUE=URI;X-ADDRESS=Hauptstraße 9\, Zaisering\
 , 83569\, Deutschland;X-APPLE-RADIUS=100;X-TITLE=St. Vitus:geo:47.904156,1
 2.147574
END:VEVENT
BEGIN:VTIMEZONE
TZID:Europe/Berlin
X-LIC-LOCATION:Europe/Berlin
BEGIN:STANDARD
DTSTART:20131027T020000
TZOFFSETFROM:+0200
TZOFFSETTO:+0100
TZNAME:CET
END:STANDARD
END:VTIMEZONE
END:VCALENDAR