BEGIN:VCALENDAR
VERSION:2.0
PRODID:-//wp-events-plugin.com//7.2.3.1//EN
TZID:Europe/Berlin
X-WR-TIMEZONE:Europe/Berlin
BEGIN:VEVENT
UID:0-7028@pv-prutting-vogtareuth.de
DTSTART;TZID=Europe/Berlin:20201220T090000
DTEND;TZID=Europe/Berlin:20201220T090000
DTSTAMP:20201215T052342Z
URL:https://pv-prutting-vogtareuth.de/events/gedenkgottesdienst-100-jahre-
 pfarrei-schwabering-160-jahre-kirchenbau-st-peter/
SUMMARY:Gedenkgottesdienst – 100 Jahre Pfarrei Schwabering\, 160 Jahre Ki
 rchenbau St. Peter – Eucharistiefeier
DESCRIPTION:Corona lässt keine großen Feierlichkeiten zu\, aber wir wolle
 n dennoch dieser besonderen Anlässe im Gottesdienst gedenken. Eine Anmeld
 ung im Pfarrbüro (Tel. 08053-3244) ist notwendig.\n\n† Sebastian Seehu
 ber\n† Ernst Häusler und im Gedenken an Rudolf Vornberger\n† Maria De
 mmel zum Jahresgedenken\n† Hans März zum Jahresgedenken\n\n4. Advent
CATEGORIES:.Gottesdienst,Gottesdienst Schwabering,Schwabering
LOCATION:St. Peter\, Dorfstraße 3\, Schwabering\, 83139\, Deutschland
GEO:47.903596;12.235272
X-APPLE-STRUCTURED-LOCATION;VALUE=URI;X-ADDRESS=Dorfstraße 3\, Schwabering
 \, 83139\, Deutschland;X-APPLE-RADIUS=100;X-TITLE=St. Peter:geo:47.903596,
 12.235272
END:VEVENT
BEGIN:VTIMEZONE
TZID:Europe/Berlin
X-LIC-LOCATION:Europe/Berlin
BEGIN:STANDARD
DTSTART:20201025T020000
TZOFFSETFROM:+0200
TZOFFSETTO:+0100
TZNAME:CET
END:STANDARD
END:VTIMEZONE
END:VCALENDAR