BEGIN:VCALENDAR
VERSION:2.0
PRODID:-//wp-events-plugin.com//7.2.3.1//EN
TZID:Europe/Berlin
X-WR-TIMEZONE:Europe/Berlin
BEGIN:VEVENT
UID:0-8395@pv-prutting-vogtareuth.de
DTSTART;TZID=Europe/Berlin:20221211T193000
DTEND;TZID=Europe/Berlin:20221211T193000
DTSTAMP:20221129T155331Z
URL:https://pv-prutting-vogtareuth.de/events/festliches-adventskonzert-5/
SUMMARY:Festliches Adventskonzert
DESCRIPTION:des Orgelbauvereins\; es wirken mit: der Kirchenchor Vogtareuth
 \, den Umi Stephan diesmal dirigiert\, mit Martina Schmidmaier an der Harf
 e\, dazu die Straßkirchener Sängerinnen\, die Vogtareuther Sänger\, die
  Schönauer Soatnmusi\, Christoph Hofstetter (Trompete) und Elisabeth Enge
 lsberger (Kastenorgel). Der Eintritt ist frei\, Spenden sind willkommen un
 d werden für den Orgelneubau verwendet.\n\n
CATEGORIES:Konzert,Veranstaltung,Vogtareuth
LOCATION:St. Emmeram\, Kirchplatz 1\, Vogtareuth\, 83569\, Deutschland
GEO:47.947833;12.181734
X-APPLE-STRUCTURED-LOCATION;VALUE=URI;X-ADDRESS=Kirchplatz 1\, Vogtareuth\,
  83569\, Deutschland;X-APPLE-RADIUS=100;X-TITLE=St. Emmeram:geo:47.947833,
 12.181734
END:VEVENT
BEGIN:VTIMEZONE
TZID:Europe/Berlin
X-LIC-LOCATION:Europe/Berlin
BEGIN:STANDARD
DTSTART:20221030T020000
TZOFFSETFROM:+0200
TZOFFSETTO:+0100
TZNAME:CET
END:STANDARD
END:VTIMEZONE
END:VCALENDAR