BEGIN:VCALENDAR
VERSION:2.0
PRODID:-//wp-events-plugin.com//7.2.3.1//EN
TZID:Europe/Berlin
X-WR-TIMEZONE:Europe/Berlin
BEGIN:VEVENT
UID:0-9782@pv-prutting-vogtareuth.de
DTSTART;TZID=Europe/Berlin:20240602T101500
DTEND;TZID=Europe/Berlin:20240602T101500
DTSTAMP:20240531T035958Z
URL:https://pv-prutting-vogtareuth.de/events/festgottesdienst-zum-150-jaeh
 rigen-bestehen-der-ffw-zaisering/
SUMMARY:Festgottesdienst zum 150-jährigen Bestehen der FFW Zaisering
DESCRIPTION:\n 	8 Uhr: Empfang der Vereine und Frühschoppen\n 	9:30 Uhr: A
 ufstellung zum Kirchenzug\n 	10:15 Uhr: Festgottesdienst\n 	ab 11:30 Uhr: 
 Mittagstisch mit Nachmittagsunterhaltung. Für die Frauengemeinshaft Zaise
 ring/Leonhardspfunzen sind Plätze im Zelt reserviert\, ebenso für die Fr
 auengemeinschaft Vogtareuth (deren Treffpunkt ist um 9:15 Uhr im Festzelt)
 .\n\nDas gesamte Programm der Festwoche 2024 gibt es auf den Seiten der Fr
 eiwilligen Feuerwehr Zaisering. → Mitfahrgelegenheit anbieten oder find
 en.\n\n9. Sonntag im Jahreskreis
CATEGORIES:.Gottesdienst,GkF Vogtareuth,Gottesdienst Zaisering,kfd
 Zaisering-Leonhardspfunzen,Zaisering
LOCATION:St. Vitus\, Hauptstraße 9\, Zaisering\, 83569\, Deutschland
GEO:47.904156;12.147574
X-APPLE-STRUCTURED-LOCATION;VALUE=URI;X-ADDRESS=Hauptstraße 9\, Zaisering\
 , 83569\, Deutschland;X-APPLE-RADIUS=100;X-TITLE=St. Vitus:geo:47.904156,1
 2.147574
END:VEVENT
BEGIN:VTIMEZONE
TZID:Europe/Berlin
X-LIC-LOCATION:Europe/Berlin
BEGIN:DAYLIGHT
DTSTART:20240331T030000
TZOFFSETFROM:+0100
TZOFFSETTO:+0200
TZNAME:CEST
END:DAYLIGHT
END:VTIMEZONE
END:VCALENDAR