BEGIN:VCALENDAR
VERSION:2.0
PRODID:-//wp-events-plugin.com//7.2.3.1//EN
TZID:Europe/Berlin
X-WR-TIMEZONE:Europe/Berlin
BEGIN:VEVENT
UID:0-7517@pv-prutting-vogtareuth.de
DTSTART;TZID=Europe/Berlin:20211017T101500
DTEND;TZID=Europe/Berlin:20211017T101500
DTSTAMP:20210919T062742Z
URL:https://pv-prutting-vogtareuth.de/events/festgottesdienst-zu-kirchweih
 -mit-ministrantenaufnahme-2/
SUMMARY:Pfarrverbandsgottesdienst als Festgottesdienst zu Kirchweih mit Min
 istrantenaufnahme
DESCRIPTION:29. Sonntag im Jahreskreis
CATEGORIES:.Gottesdienst,Gottesdienst Pfarrverband,Gottesdienst
 Zaisering,Pfarrverband,Zaisering
LOCATION:St. Vitus\, Hauptstraße 9\, Zaisering\, 83569\, Deutschland
GEO:47.904156;12.147574
X-APPLE-STRUCTURED-LOCATION;VALUE=URI;X-ADDRESS=Hauptstraße 9\, Zaisering\
 , 83569\, Deutschland;X-APPLE-RADIUS=100;X-TITLE=St. Vitus:geo:47.904156,1
 2.147574
END:VEVENT
BEGIN:VTIMEZONE
TZID:Europe/Berlin
X-LIC-LOCATION:Europe/Berlin
BEGIN:DAYLIGHT
DTSTART:20210328T030000
TZOFFSETFROM:+0100
TZOFFSETTO:+0200
TZNAME:CEST
END:DAYLIGHT
END:VTIMEZONE
END:VCALENDAR