BEGIN:VCALENDAR
VERSION:2.0
PRODID:-//wp-events-plugin.com//7.2.3.1//EN
TZID:Europe/Berlin
X-WR-TIMEZONE:Europe/Berlin
BEGIN:VEVENT
UID:0-9727@pv-prutting-vogtareuth.de
DTSTART;TZID=Europe/Berlin:20240401T090000
DTEND;TZID=Europe/Berlin:20240401T090000
DTSTAMP:20240302T073140Z
URL:https://pv-prutting-vogtareuth.de/events/festgottesdienst-271/
SUMMARY:Festgottesdienst
DESCRIPTION:† Angehörige der Familie Stadlhuber\, Tödtenberg\n† Freun
 de Franz Bock und Franz Greindl von Familie Stadlhuber\, Tödtenberg\n† 
 Mutter und Oma Maria Landinger zum Jahresgedenken\n† Eltern Josefa und A
 nton Gsinn zum Jahresgedenken\, † Bruder Josef Gsinn und † Sohn Flor
 ian Bernhard\n† Anna Vogleitner zum Jahresgedenken\n† Mutter und Oma I
 rena Balytska und † Bruder Anton Balytsky von Elina und Nadiia Balytska
 \, Hölking\n† Johann und Regina Kirchbeck von der Familie\n† Schwiege
 rmutter und Oma Centa Schmidmayer zum Jahresgedenken und deren † Sohn G
 eorg\n† Ehemann und Papa Walter Neugebauer\, † Mutter und Oma Johanna
  Wimmer und † Schwiegervater Erwin Neugebauer\n† Eltern Annemarie und
  Sepp Rumberger\n\nOstermontag
CATEGORIES:.Gottesdienst,Gottesdienst Straßkirchen,Straßkirchen
LOCATION:St. Georg\, Straßkirchen 4\, Vogtareuth\, 83569\, Deutschland
GEO:47.930051;12.191264
X-APPLE-STRUCTURED-LOCATION;VALUE=URI;X-ADDRESS=Straßkirchen 4\, Vogtareut
 h\, 83569\, Deutschland;X-APPLE-RADIUS=100;X-TITLE=St. Georg:geo:47.93005
 1,12.191264
END:VEVENT
BEGIN:VTIMEZONE
TZID:Europe/Berlin
X-LIC-LOCATION:Europe/Berlin
BEGIN:DAYLIGHT
DTSTART:20240331T030000
TZOFFSETFROM:+0100
TZOFFSETTO:+0200
TZNAME:CEST
END:DAYLIGHT
END:VTIMEZONE
END:VCALENDAR