BEGIN:VCALENDAR
VERSION:2.0
PRODID:-//wp-events-plugin.com//7.2.3.1//EN
TZID:Europe/Berlin
X-WR-TIMEZONE:Europe/Berlin
BEGIN:VEVENT
UID:0-6977@pv-prutting-vogtareuth.de
DTSTART;TZID=Europe/Berlin:20201107T180000
DTEND;TZID=Europe/Berlin:20201107T180000
DTSTAMP:20201104T105841Z
URL:https://pv-prutting-vogtareuth.de/events/familien-andacht/
SUMMARY:Familien-Andacht
DESCRIPTION:Beim Gottesdienst werden Lichttüten werden verschenkt\, damit 
 die Fenster der Häuser in der Nachbarschaft erhellt werden können: Die K
 inder nehmen sich die Lichttüten zum Basteln mit nach Hause\; jedes Kind 
 soll eine Tüte gestalten und an liebe Menschen (in der Nachbarschaft) wei
 terschenken. – Mehr dazu in der Ankündigung.
CATEGORIES:.Gottesdienst,Gottesdienst Schwabering,Schwabering
LOCATION:St. Peter\, Dorfstraße 3\, Schwabering\, 83139\, Deutschland
GEO:47.903596;12.235272
X-APPLE-STRUCTURED-LOCATION;VALUE=URI;X-ADDRESS=Dorfstraße 3\, Schwabering
 \, 83139\, Deutschland;X-APPLE-RADIUS=100;X-TITLE=St. Peter:geo:47.903596,
 12.235272
END:VEVENT
BEGIN:VTIMEZONE
TZID:Europe/Berlin
X-LIC-LOCATION:Europe/Berlin
BEGIN:STANDARD
DTSTART:20201025T020000
TZOFFSETFROM:+0200
TZOFFSETTO:+0100
TZNAME:CET
END:STANDARD
END:VTIMEZONE
END:VCALENDAR