BEGIN:VCALENDAR
VERSION:2.0
PRODID:-//wp-events-plugin.com//7.2.3.1//EN
TZID:Europe/Berlin
X-WR-TIMEZONE:Europe/Berlin
BEGIN:VEVENT
UID:0-9852@pv-prutting-vogtareuth.de
DTSTART;TZID=Europe/Berlin:20240619T124500
DTEND;TZID=Europe/Berlin:20240619T180000
DTSTAMP:20240618T090638Z
URL:https://pv-prutting-vogtareuth.de/events/fahrt-ins-blaue-3/
SUMMARY:Fahrt ins Blaue
DESCRIPTION:Diesmal geht es zum Marienwallfahrtsort Birkenstein. Die Abfahr
 t für diesen Halbtagesausflug ist um 12:45 Uhr am Feuerwehrhaus. Anschli
 eßend steht eine Einkehr im Café Winklstüberl auf dem Programm. Die Gem
 einschaft katholischer Frauen Vogtareuth lädt herzlich ein. Anmeldung bit
 te bei Christine Bernhard.\n\n
CATEGORIES:Ausflug,GkF Vogtareuth,Veranstaltung,Vogtareuth
LOCATION:Feuerwehrhaus Vogtareuth\, Vogteistraße 5\, Vogtareuth\, 83569\, 
 Deutschland
GEO:47.94684121943967;12.182292576721238
X-APPLE-STRUCTURED-LOCATION;VALUE=URI;X-ADDRESS=Vogteistraße 5\, Vogtareut
 h\, 83569\, Deutschland;X-APPLE-RADIUS=100;X-TITLE=Feuerwehrhaus Vogtareut
 h:geo:47.94684121943967,12.182292576721238
END:VEVENT
BEGIN:VTIMEZONE
TZID:Europe/Berlin
X-LIC-LOCATION:Europe/Berlin
BEGIN:DAYLIGHT
DTSTART:20240331T030000
TZOFFSETFROM:+0100
TZOFFSETTO:+0200
TZNAME:CEST
END:DAYLIGHT
END:VTIMEZONE
END:VCALENDAR