BEGIN:VCALENDAR
VERSION:2.0
PRODID:-//wp-events-plugin.com//7.2.3.1//EN
TZID:Europe/Berlin
X-WR-TIMEZONE:Europe/Berlin
BEGIN:VEVENT
UID:0-9736@pv-prutting-vogtareuth.de
DTSTART;TZID=Europe/Berlin:20240630T090000
DTEND;TZID=Europe/Berlin:20240630T090000
DTSTAMP:20240625T201408Z
URL:https://pv-prutting-vogtareuth.de/events/eucharistiefeier-117/
SUMMARY:Eucharistiefeier
DESCRIPTION:Musikalisch gestaltet von Helga Neugebauer und den Musikkindern
 . Anschließend Brezn-Café im Pfarrheim oder im Pfarrgarten\, je nach Wet
 ter.\n\n† Ehefrau und Mutter Annelies Umkehr zum Jahresgedenken\n† Fra
 nz und Anna Umkehr\, Richard und Paula Mittermaier\n\n13. Sonntag im Jahre
 skreis
CATEGORIES:.Gottesdienst,Gottesdienst Vogtareuth,Vogtareuth
LOCATION:St. Emmeram\, Kirchplatz 1\, Vogtareuth\, 83569\, Deutschland
GEO:47.947833;12.181734
X-APPLE-STRUCTURED-LOCATION;VALUE=URI;X-ADDRESS=Kirchplatz 1\, Vogtareuth\,
  83569\, Deutschland;X-APPLE-RADIUS=100;X-TITLE=St. Emmeram:geo:47.947833,
 12.181734
END:VEVENT
BEGIN:VTIMEZONE
TZID:Europe/Berlin
X-LIC-LOCATION:Europe/Berlin
BEGIN:DAYLIGHT
DTSTART:20240331T030000
TZOFFSETFROM:+0100
TZOFFSETTO:+0200
TZNAME:CEST
END:DAYLIGHT
END:VTIMEZONE
END:VCALENDAR