BEGIN:VCALENDAR
VERSION:2.0
PRODID:-//wp-events-plugin.com//7.2.3.1//EN
TZID:Europe/Berlin
X-WR-TIMEZONE:Europe/Berlin
BEGIN:VEVENT
UID:0-8733@pv-prutting-vogtareuth.de
DTSTART;TZID=Europe/Berlin:20230218T190000
DTEND;TZID=Europe/Berlin:20230218T190000
DTSTAMP:20231219T063258Z
URL:https://pv-prutting-vogtareuth.de/events/erste-eucharistiefeier-zum-so
 nntag-paargottesdienst/
SUMMARY:Erste Eucharistiefeier zum Sonntag – Paargottesdienst mit Paarseg
 nung
DESCRIPTION:† Sebastian Größ von der Familie Beham\, Kirchensur\n† Fr
 anz Zacherl und Johann und Theresia Zwigl zum Jahresgedenken\n† Franz un
 d Maria Gawlik zum Jahresgedenken\n\nDie Paare aller Art (!) erhalten am E
 nde des Gottesdienstes die Möglichkeit zu einem ganz persönlichen Segen.
  Außerdem ist beim Schmidmayer reserviert für die Paare\, die nach dem G
 ottesdienst mit Pfarrer Guido Seidenberger und Diakon Eugen Peter noch ins
  Gespräch kommen wollen (und dabei\, wer will\, gemütlich abendessen). E
 ine herzliche Einladung!\n\n7. Sonntag im Jahreskreis
CATEGORIES:.Gottesdienst,Gottesdienst Pfarrverband,Gottesdienst
 Schwabering,Pfarrverband,Schwabering
LOCATION:St. Peter\, Dorfstraße 3\, Schwabering\, 83139\, Deutschland
GEO:47.903596;12.235272
X-APPLE-STRUCTURED-LOCATION;VALUE=URI;X-ADDRESS=Dorfstraße 3\, Schwabering
 \, 83139\, Deutschland;X-APPLE-RADIUS=100;X-TITLE=St. Peter:geo:47.903596,
 12.235272
END:VEVENT
BEGIN:VTIMEZONE
TZID:Europe/Berlin
X-LIC-LOCATION:Europe/Berlin
BEGIN:STANDARD
DTSTART:20221030T020000
TZOFFSETFROM:+0200
TZOFFSETTO:+0100
TZNAME:CET
END:STANDARD
END:VTIMEZONE
END:VCALENDAR