BEGIN:VCALENDAR
VERSION:2.0
PRODID:-//wp-events-plugin.com//7.2.3.1//EN
TZID:Europe/Berlin
X-WR-TIMEZONE:Europe/Berlin
BEGIN:VEVENT
UID:0-2338@pv-prutting-vogtareuth.de
DTSTART;TZID=Europe/Berlin:20151124T193000
DTEND;TZID=Europe/Berlin:20151124T193000
DTSTAMP:20151106T052951Z
URL:https://pv-prutting-vogtareuth.de/events/elternabend-zur-firmvorbereit
 ung/
SUMMARY:Elternabend zur Firmvorbereitung
DESCRIPTION:für den gesamten Pfarrverband\n
CATEGORIES:Pfarrverband,Schwabering,Veranstaltung
LOCATION:Pfarrheim St. Peter\, Dorfstraße 1\, Schwabering\, 83139\, Deutsc
 hland
GEO:47.903195;12.235192
X-APPLE-STRUCTURED-LOCATION;VALUE=URI;X-ADDRESS=Dorfstraße 1\, Schwabering
 \, 83139\, Deutschland;X-APPLE-RADIUS=100;X-TITLE=Pfarrheim St. Peter:geo:
 47.903195,12.235192
END:VEVENT
BEGIN:VTIMEZONE
TZID:Europe/Berlin
X-LIC-LOCATION:Europe/Berlin
BEGIN:STANDARD
DTSTART:20151025T020000
TZOFFSETFROM:+0200
TZOFFSETTO:+0100
TZNAME:CET
END:STANDARD
END:VTIMEZONE
END:VCALENDAR