BEGIN:VCALENDAR
VERSION:2.0
PRODID:-//wp-events-plugin.com//7.2.3.1//EN
TZID:Europe/Berlin
X-WR-TIMEZONE:Europe/Berlin
BEGIN:VEVENT
UID:0-9088@pv-prutting-vogtareuth.de
DTSTART;TZID=Europe/Berlin:20230709T190000
DTEND;TZID=Europe/Berlin:20230709T190000
DTSTAMP:20230704T154759Z
URL:https://pv-prutting-vogtareuth.de/events/bitt-und-dankgottesdienst-als
 -pfarrverbandsgottesdienst/
SUMMARY:Bitt- und Dankgottesdienst als Pfarrverbandsgottesdienst
DESCRIPTION:\n\nIn den Anliegen des Pfarrverbandes und für alle Lebenden u
 nd Verstorbenen des Pfarrverbandes\, nach Ankunft der Bittgänge aus den P
 farreien. Bei schlechter Witterung ist der Gottesdienst in der Pfarrkirche
  in Prutting.\n\nDer Sternbittgang nach Seehub startet\n\n 	an der Kirche 
 in Prutting um 18 Uhr\,\n 	in Schwabering um 17:45 Uhr\,\n 	in Vogtareuth\
 , ab Straßkirchen\, um 18:15 Uhr und\n 	in Zaisering um 17:45 Uhr.\n\n14.
  Sonntag im Jahreskreis
CATEGORIES:.Gottesdienst,Gottesdienst Pfarrverband,Pfarrverband
LOCATION:Seehub\, Seehub 1\, Vogtareuth\, 83569\, Deutschland
GEO:47.915027;12.196897
X-APPLE-STRUCTURED-LOCATION;VALUE=URI;X-ADDRESS=Seehub 1\, Vogtareuth\, 835
 69\, Deutschland;X-APPLE-RADIUS=100;X-TITLE=Seehub:geo:47.915027,12.196897
END:VEVENT
BEGIN:VTIMEZONE
TZID:Europe/Berlin
X-LIC-LOCATION:Europe/Berlin
BEGIN:DAYLIGHT
DTSTART:20230326T030000
TZOFFSETFROM:+0100
TZOFFSETTO:+0200
TZNAME:CEST
END:DAYLIGHT
END:VTIMEZONE
END:VCALENDAR