BEGIN:VCALENDAR
VERSION:2.0
PRODID:-//wp-events-plugin.com//7.2.3.1//EN
TZID:Europe/Berlin
X-WR-TIMEZONE:Europe/Berlin
BEGIN:VEVENT
UID:0-4200@pv-prutting-vogtareuth.de
DTSTART;TZID=Europe/Berlin:20171014T193000
DTEND;TZID=Europe/Berlin:20171014T193000
DTSTAMP:20171010T075148Z
URL:https://pv-prutting-vogtareuth.de/events/benefizkonzert-des-gitarrenqu
 artetts-corylus-avellana/
SUMMARY:Benefizkonzert des Gitarren&shy\;quartetts Corylus Avellana
DESCRIPTION:[caption id="attachment_12957" align="alignleft" width="150"] H
 erzliche Einladung[/caption]\n\nzugunsten der Orgelneubaus in der Pfarrkir
 che St. Emmeram. Zu hören werden Werke von Bach\, Brahms\, Tschaikowski 
 u.a. sein. Der Eintritt ist frei\, Spenden sind erbeten (mehr auf corylus-
 avellana.com und beim Orgelbauverein).
CATEGORIES:Konzert,Veranstaltung,Vogtareuth
LOCATION:St. Emmeram\, Kirchplatz 1\, Vogtareuth\, 83569\, Deutschland
GEO:47.947833;12.181734
X-APPLE-STRUCTURED-LOCATION;VALUE=URI;X-ADDRESS=Kirchplatz 1\, Vogtareuth\,
  83569\, Deutschland;X-APPLE-RADIUS=100;X-TITLE=St. Emmeram:geo:47.947833,
 12.181734
END:VEVENT
BEGIN:VTIMEZONE
TZID:Europe/Berlin
X-LIC-LOCATION:Europe/Berlin
BEGIN:DAYLIGHT
DTSTART:20170326T030000
TZOFFSETFROM:+0100
TZOFFSETTO:+0200
TZNAME:CEST
END:DAYLIGHT
END:VTIMEZONE
END:VCALENDAR