BEGIN:VCALENDAR
VERSION:2.0
PRODID:-//wp-events-plugin.com//7.2.3.1//EN
TZID:Europe/Berlin
X-WR-TIMEZONE:Europe/Berlin
BEGIN:VEVENT
UID:0-9439@pv-prutting-vogtareuth.de
DTSTART;TZID=Europe/Berlin:20231216T124500
DTEND;TZID=Europe/Berlin:20231216T210000
DTSTAMP:20231212T043425Z
URL:https://pv-prutting-vogtareuth.de/events/ausflug-nach-burghausen/
SUMMARY:Ausflug nach Burghausen
DESCRIPTION:Die Frauengemeinschaft Vogtareuth unternimmt zusammen mit den L
 andfrauen einen Ausflug nach Burghausen. Abfahrt ist um 12:45 Uhr am Feuer
 wehrhaus Vogtareuth. Wir fahren zuerst nach Altenmarkt zu einem Vortrag vo
 n Martina Krichbaumer über Raunächte und Räuchern. Nachdem wir uns am K
 affee- und Kuchenbüfett gestärkt haben\, geht es weiter zur Burgweihnach
 t nach Burghausen. Um ca. 21 Uhr werden wir wieder zurück in Vogtareuth s
 ein.\n\nDie Kosten der Fahrt betragen insgesamt 25 Euro (15 Euro Bus\, Ein
 tritt\; 10 Euro Vortrag mit Kaffee- und Kuchenbüfett). Alle Interessierte
 n sind herzlich willkommen! Anmeldung bei Hildegard Mayer (Landfrauen) ode
 r bei Sigrid Dorn (Frauengemeinschaft).
CATEGORIES:Ausflug,GkF Vogtareuth,Veranstaltung,Vogtareuth
LOCATION:Feuerwehrhaus Vogtareuth\, Vogteistraße 5\, Vogtareuth\, 83569\, 
 Deutschland
GEO:47.94684121943967;12.182292576721238
X-APPLE-STRUCTURED-LOCATION;VALUE=URI;X-ADDRESS=Vogteistraße 5\, Vogtareut
 h\, 83569\, Deutschland;X-APPLE-RADIUS=100;X-TITLE=Feuerwehrhaus Vogtareut
 h:geo:47.94684121943967,12.182292576721238
END:VEVENT
BEGIN:VTIMEZONE
TZID:Europe/Berlin
X-LIC-LOCATION:Europe/Berlin
BEGIN:STANDARD
DTSTART:20231029T020000
TZOFFSETFROM:+0200
TZOFFSETTO:+0100
TZNAME:CET
END:STANDARD
END:VTIMEZONE
END:VCALENDAR