BEGIN:VCALENDAR
VERSION:2.0
PRODID:-//wp-events-plugin.com//7.2.3.1//EN
TZID:Europe/Berlin
X-WR-TIMEZONE:Europe/Berlin
BEGIN:VEVENT
UID:0-9138@pv-prutting-vogtareuth.de
DTSTART;TZID=Europe/Berlin:20230730T190000
DTEND;TZID=Europe/Berlin:20230730T190000
DTSTAMP:20230728T090059Z
URL:https://pv-prutting-vogtareuth.de/events/andacht-draussen-mit-gott-zum
 -thema-segen/
SUMMARY:Andacht „Draußen mit Gott“ zum Thema „Quelle des Lebens“
DESCRIPTION:Beim Steg am Siferlinger See. Anfahrtsbeschreibung: Vom Gewerbe
 gebiet (Tankstelle) kommend Richtung Siferling fahren. Bei den Koppeln am 
 Ende des neuen Radlweges rechts abbiegen und der Feldstraße Richtung Oste
 rfing folgen. Dort gibt es im Wald ein paar Parkplätze. Von dort zu Fuß 
 zum Steg des Siferlinger See. Kommt am besten mit dem Radl oder zu Fuß. 
 – Bei schlechtem Wetter findet die Andacht in der Kirche Schwabering sta
 tt.\n\n17. Sonntag im Jahreskreis\n\n
CATEGORIES:.Gottesdienst,Gottesdienst Schwabering,Schwabering
LOCATION:Siferlinger See\, Siferlinger See\, Söchtenau\, 83139\, Deutschla
 nd
X-APPLE-STRUCTURED-LOCATION;VALUE=URI;X-ADDRESS=Siferlinger See\, Söchtena
 u\, 83139\, Deutschland;X-APPLE-RADIUS=100;X-TITLE=Siferlinger See:geo:0,0
END:VEVENT
BEGIN:VTIMEZONE
TZID:Europe/Berlin
X-LIC-LOCATION:Europe/Berlin
BEGIN:DAYLIGHT
DTSTART:20230326T030000
TZOFFSETFROM:+0100
TZOFFSETTO:+0200
TZNAME:CEST
END:DAYLIGHT
END:VTIMEZONE
END:VCALENDAR